BEGIN:VCALENDAR
VERSION:2.0
PRODID:-//Palm Springs Chamber of Commerce - ECPv6.15.20//NONSGML v1.0//EN
CALSCALE:GREGORIAN
METHOD:PUBLISH
X-ORIGINAL-URL:https://pschamber.org
X-WR-CALDESC:Events for Palm Springs Chamber of Commerce
REFRESH-INTERVAL;VALUE=DURATION:PT1H
X-Robots-Tag:noindex
X-PUBLISHED-TTL:PT1H
BEGIN:VTIMEZONE
TZID:America/Los_Angeles
BEGIN:DAYLIGHT
TZOFFSETFROM:-0800
TZOFFSETTO:-0700
TZNAME:PDT
DTSTART:20250309T100000
END:DAYLIGHT
BEGIN:STANDARD
TZOFFSETFROM:-0700
TZOFFSETTO:-0800
TZNAME:PST
DTSTART:20251102T090000
END:STANDARD
BEGIN:DAYLIGHT
TZOFFSETFROM:-0800
TZOFFSETTO:-0700
TZNAME:PDT
DTSTART:20260308T100000
END:DAYLIGHT
BEGIN:STANDARD
TZOFFSETFROM:-0700
TZOFFSETTO:-0800
TZNAME:PST
DTSTART:20261101T090000
END:STANDARD
BEGIN:DAYLIGHT
TZOFFSETFROM:-0800
TZOFFSETTO:-0700
TZNAME:PDT
DTSTART:20270314T100000
END:DAYLIGHT
BEGIN:STANDARD
TZOFFSETFROM:-0700
TZOFFSETTO:-0800
TZNAME:PST
DTSTART:20271107T090000
END:STANDARD
END:VTIMEZONE
BEGIN:VEVENT
DTSTART;TZID=America/Los_Angeles:20260204T190000
DTEND;TZID=America/Los_Angeles:20260204T210000
DTSTAMP:20260422T120011
CREATED:20250128T173826Z
LAST-MODIFIED:20260109T180025Z
UID:18759-1770231600-1770238800@pschamber.org
SUMMARY:Rock the Park - February 2026
DESCRIPTION:Get ready for an electric night of pop\, funk\, and nonstop energy.That’s What I Like (formerly Bruno and the Hooligans) is the ultimate Bruno Mars tribute experience\, delivering the sound\, style\, and charisma of the Grammy-winning superstar. From chart-topping hits like “Uptown Funk\,” “Treasure\,” “Locked Out of Heaven\,” and “24K Magic” to his smooth ballads and high-energy stage moves\, this show brings the full Bruno Mars experience to life. \nPerfect for dancing\, singing along\, and soaking up the rhythm\, this is one tribute that brings the party to Palm Springs. \nBring your blankets and chairs\, grab your friends\, and settle in for an unforgettable evening under the desert stars.Concert begins at 7:00 p.m. at Downtown Palm Springs Park. Free and open to all. \n\n\n\nTo view the Season Five lineup\, click here.
URL:https://pschamber.org/event/rock-the-park-february-2026/
LOCATION:Downtown Palm Springs Park
END:VEVENT
END:VCALENDAR