BEGIN:VCALENDAR
VERSION:2.0
PRODID:-//Palm Springs Chamber of Commerce - ECPv6.15.20//NONSGML v1.0//EN
CALSCALE:GREGORIAN
METHOD:PUBLISH
X-ORIGINAL-URL:https://pschamber.org
X-WR-CALDESC:Events for Palm Springs Chamber of Commerce
REFRESH-INTERVAL;VALUE=DURATION:PT1H
X-Robots-Tag:noindex
X-PUBLISHED-TTL:PT1H
BEGIN:VTIMEZONE
TZID:America/Los_Angeles
BEGIN:DAYLIGHT
TZOFFSETFROM:-0800
TZOFFSETTO:-0700
TZNAME:PDT
DTSTART:20250309T100000
END:DAYLIGHT
BEGIN:STANDARD
TZOFFSETFROM:-0700
TZOFFSETTO:-0800
TZNAME:PST
DTSTART:20251102T090000
END:STANDARD
BEGIN:DAYLIGHT
TZOFFSETFROM:-0800
TZOFFSETTO:-0700
TZNAME:PDT
DTSTART:20260308T100000
END:DAYLIGHT
BEGIN:STANDARD
TZOFFSETFROM:-0700
TZOFFSETTO:-0800
TZNAME:PST
DTSTART:20261101T090000
END:STANDARD
BEGIN:DAYLIGHT
TZOFFSETFROM:-0800
TZOFFSETTO:-0700
TZNAME:PDT
DTSTART:20270314T100000
END:DAYLIGHT
BEGIN:STANDARD
TZOFFSETFROM:-0700
TZOFFSETTO:-0800
TZNAME:PST
DTSTART:20271107T090000
END:STANDARD
END:VTIMEZONE
BEGIN:VEVENT
DTSTART;TZID=America/Los_Angeles:20260401T190000
DTEND;TZID=America/Los_Angeles:20260401T210000
DTSTAMP:20260422T091643
CREATED:20250808T193307Z
LAST-MODIFIED:20260122T172651Z
UID:21395-1775070000-1775077200@pschamber.org
SUMMARY:Rock the Park - April 2026
DESCRIPTION:A dazzling celebration of a true icon.\nSongbird is a moving tribute to the legendary Barbra Streisand\, honoring her unparalleled voice\, timeless songs\, and powerful presence. From Broadway classics like “Don’t Rain on My Parade” to heartfelt ballads like “The Way We Were\,” “Evergreen\,” and “People\,” this performance captures the magic and grace of Barbra’s unmatched career. \nBring your blankets and chairs\, grab your friends\, and settle in for an unforgettable evening under the desert stars.Concert begins at 7:00 p.m. at Downtown Palm Springs Park. Free and open to all. \n\n\nTo view the Season Five lineup\, click here.
URL:https://pschamber.org/event/rock-the-park-april-2026/
LOCATION:Downtown Palm Springs Park
END:VEVENT
END:VCALENDAR