BEGIN:VCALENDAR
VERSION:2.0
PRODID:-//Palm Springs Chamber of Commerce - ECPv6.15.20//NONSGML v1.0//EN
CALSCALE:GREGORIAN
METHOD:PUBLISH
X-WR-CALNAME:Palm Springs Chamber of Commerce
X-ORIGINAL-URL:https://pschamber.org
X-WR-CALDESC:Events for Palm Springs Chamber of Commerce
REFRESH-INTERVAL;VALUE=DURATION:PT1H
X-Robots-Tag:noindex
X-PUBLISHED-TTL:PT1H
BEGIN:VTIMEZONE
TZID:America/Los_Angeles
BEGIN:DAYLIGHT
TZOFFSETFROM:-0800
TZOFFSETTO:-0700
TZNAME:PDT
DTSTART:20250309T100000
END:DAYLIGHT
BEGIN:STANDARD
TZOFFSETFROM:-0700
TZOFFSETTO:-0800
TZNAME:PST
DTSTART:20251102T090000
END:STANDARD
BEGIN:DAYLIGHT
TZOFFSETFROM:-0800
TZOFFSETTO:-0700
TZNAME:PDT
DTSTART:20260308T100000
END:DAYLIGHT
BEGIN:STANDARD
TZOFFSETFROM:-0700
TZOFFSETTO:-0800
TZNAME:PST
DTSTART:20261101T090000
END:STANDARD
BEGIN:DAYLIGHT
TZOFFSETFROM:-0800
TZOFFSETTO:-0700
TZNAME:PDT
DTSTART:20270314T100000
END:DAYLIGHT
BEGIN:STANDARD
TZOFFSETFROM:-0700
TZOFFSETTO:-0800
TZNAME:PST
DTSTART:20271107T090000
END:STANDARD
END:VTIMEZONE
BEGIN:VEVENT
DTSTART;TZID=America/Los_Angeles:20260506T190000
DTEND;TZID=America/Los_Angeles:20260506T210000
DTSTAMP:20260422T103522
CREATED:20250808T193625Z
LAST-MODIFIED:20251116T040604Z
UID:21399-1778094000-1778101200@pschamber.org
SUMMARY:Rock the Park - May 2026
DESCRIPTION:Close out the season with the classic rock harmonies and feel-good hits of the Doobie Brothers with Listen To the Music.This high-energy tribute brings the band’s iconic sound to life\, delivering crowd favorites like “Takin’ It to the Streets\,” “Black Water\,” and “Long Train Runnin’.” \nKnown for their tight harmonies\, infectious grooves\, and laid-back California vibes\, the Doobies defined a generation — and this tribute brings it all back. \nBring your blankets and chairs\, grab your friends\, and settle in for an unforgettable evening under the desert stars.Concert begins at 7:00 p.m. at Downtown Palm Springs Park. Free and open to all. \n\n\nTo view the Season Five lineup\, click here.
URL:https://pschamber.org/event/rock-the-park-may-2026/
LOCATION:Downtown Palm Springs Park
END:VEVENT
END:VCALENDAR