BEGIN:VCALENDAR
VERSION:2.0
PRODID:-//Palm Springs Chamber of Commerce - ECPv6.15.20//NONSGML v1.0//EN
CALSCALE:GREGORIAN
METHOD:PUBLISH
X-WR-CALNAME:Palm Springs Chamber of Commerce
X-ORIGINAL-URL:https://pschamber.org
X-WR-CALDESC:Events for Palm Springs Chamber of Commerce
REFRESH-INTERVAL;VALUE=DURATION:PT1H
X-Robots-Tag:noindex
X-PUBLISHED-TTL:PT1H
BEGIN:VTIMEZONE
TZID:America/Los_Angeles
BEGIN:DAYLIGHT
TZOFFSETFROM:-0800
TZOFFSETTO:-0700
TZNAME:PDT
DTSTART:20250309T100000
END:DAYLIGHT
BEGIN:STANDARD
TZOFFSETFROM:-0700
TZOFFSETTO:-0800
TZNAME:PST
DTSTART:20251102T090000
END:STANDARD
BEGIN:DAYLIGHT
TZOFFSETFROM:-0800
TZOFFSETTO:-0700
TZNAME:PDT
DTSTART:20260308T100000
END:DAYLIGHT
BEGIN:STANDARD
TZOFFSETFROM:-0700
TZOFFSETTO:-0800
TZNAME:PST
DTSTART:20261101T090000
END:STANDARD
BEGIN:DAYLIGHT
TZOFFSETFROM:-0800
TZOFFSETTO:-0700
TZNAME:PDT
DTSTART:20270314T100000
END:DAYLIGHT
BEGIN:STANDARD
TZOFFSETFROM:-0700
TZOFFSETTO:-0800
TZNAME:PST
DTSTART:20271107T090000
END:STANDARD
END:VTIMEZONE
BEGIN:VEVENT
DTSTART;TZID=America/Los_Angeles:20260121T170000
DTEND;TZID=America/Los_Angeles:20260121T183000
DTSTAMP:20260422T150804
CREATED:20251204T181036Z
LAST-MODIFIED:20260107T170335Z
UID:23517-1769014800-1769020200@pschamber.org
SUMMARY:FuturePS: AI Tech & Creative – January
DESCRIPTION:Where technology\, creativity\, and community meet in Palm Springs.\nFuturePS is an upscale\, low-key social gathering for builders\, founders\, artists\, educators\,\nand those curious about how AI and technology are reshaping life\, work\, and play in the desert. Designed for people\nwho care more about meaningful ideas than trendy buzzwords\, it’s a space where depth matters more than hype\,\nand connection replaces traditional networking. \nExpect good food\, a drink in hand\, better conversation\, and a Spotlight Guest to spark something in the room.\nNo panels. No pitch decks. Just smart people actively thinking about what’s next — swapping real lessons\, sharing new tools\,\nand leaving with either a useful connection or a genuine a-ha moment. \n\n\n\nFeatured Spotlight Guest: Kelly Boesch\nWe’re excited to welcome Kelly Boesch\, a globally recognized AI artist whose cinematic\, emotionally resonant work\nhas captivated millions across social platforms. \nKelly creates surreal musical and visual stories using generative AI — blending human creativity and imagination with machine intelligence.\nAt FuturePS\, she’ll share and showcase her work\, offering a behind-the-scenes look at her creative process and how she\ncollaborates with AI as an artistic partner. \nPreview her work: \n• Website & portfolio: kellyboesch.com\n• YouTube (AI short films & visuals): @kellyeld2323\n• Instagram (AI art & motion): @kelly_boesch_ai_art \nHer work will help spark a broader conversation about creativity\, authorship\, and where art and technology are headed next. \n\n\nCommunity Spotlight: College of the Desert\nIn addition to our featured spotlight guest\, attendees will also hear a brief update from\nCollege of the Desert on the launch of its new AI-focused course curriculum. \nThis update will highlight how local education partners are responding to emerging technologies\,\npreparing students for the future of work\, and expanding access to AI literacy across the Coachella Valley. \n\n\n\nEach event is intentionally small-format to create room for dialogue: founders unpacking what’s working (and what isn’t)\,\ncreatives showing how AI is moving their process forward\, educators exploring its impact in the classroom\, and civic innovators\nimagining how technology can strengthen our communities. Whether you’re building the future or just curious about where it’s headed\,\nFuturePS is your place to plug in. \n\nWednesday\, January 21\, 2026 | 5:00–6:30 PM\nAgua Caliente Cultural Museum – Meeting Rooms A & B\n(140 N Indian Canyon Drive\, Palm Springs\, CA 92262) \n$40/person — small plates\, wine\, and beer included. \n\n\nFor more information\, email\negray@pschamber.org\nor call the Palm Springs Chamber at (760) 325-1577.
URL:https://pschamber.org/event/futureps-january/
LOCATION:Agua Caliente Cultural Museum\, 140 Indian Canyon Dr\, Palm Springs\, CA\, 92262\, United States
CATEGORIES:Featured
END:VEVENT
END:VCALENDAR