BEGIN:VCALENDAR
VERSION:2.0
PRODID:-//Palm Springs Chamber of Commerce - ECPv6.15.20//NONSGML v1.0//EN
CALSCALE:GREGORIAN
METHOD:PUBLISH
X-WR-CALNAME:Palm Springs Chamber of Commerce
X-ORIGINAL-URL:https://pschamber.org
X-WR-CALDESC:Events for Palm Springs Chamber of Commerce
REFRESH-INTERVAL;VALUE=DURATION:PT1H
X-Robots-Tag:noindex
X-PUBLISHED-TTL:PT1H
BEGIN:VTIMEZONE
TZID:America/Los_Angeles
BEGIN:DAYLIGHT
TZOFFSETFROM:-0800
TZOFFSETTO:-0700
TZNAME:PDT
DTSTART:20250309T100000
END:DAYLIGHT
BEGIN:STANDARD
TZOFFSETFROM:-0700
TZOFFSETTO:-0800
TZNAME:PST
DTSTART:20251102T090000
END:STANDARD
BEGIN:DAYLIGHT
TZOFFSETFROM:-0800
TZOFFSETTO:-0700
TZNAME:PDT
DTSTART:20260308T100000
END:DAYLIGHT
BEGIN:STANDARD
TZOFFSETFROM:-0700
TZOFFSETTO:-0800
TZNAME:PST
DTSTART:20261101T090000
END:STANDARD
BEGIN:DAYLIGHT
TZOFFSETFROM:-0800
TZOFFSETTO:-0700
TZNAME:PDT
DTSTART:20270314T100000
END:DAYLIGHT
BEGIN:STANDARD
TZOFFSETFROM:-0700
TZOFFSETTO:-0800
TZNAME:PST
DTSTART:20271107T090000
END:STANDARD
END:VTIMEZONE
BEGIN:VEVENT
DTSTART;TZID=America/Los_Angeles:20260512T170000
DTEND;TZID=America/Los_Angeles:20260512T190000
DTSTAMP:20260422T114550
CREATED:20260408T192227Z
LAST-MODIFIED:20260421T192126Z
UID:24616-1778605200-1778612400@pschamber.org
SUMMARY:Eisenhower Health — 2026 Annual Mixer
DESCRIPTION:Join Eisenhower Health and the Palm Springs Chamber of Commerce for one of the year’s\nmost anticipated networking events.\nHeld in the Bougainvillea Room at Spencer’s Restaurant\, this evening brings together business and community leaders in a space that’s both elevated and relaxed. \nYour ticket includes a well-curated experience featuring gourmet hors d’oeuvres and premium refreshments. \nTickets (Required for Entry)\nChamber Members: $20\nGuests & Future Members: $30 \nAll proceeds benefit the Palm Springs Chamber of Commerce. \nSecure your spot today—this is an event you won’t want to miss.
URL:https://pschamber.org/event/2026-annual-mixer/
LOCATION:Spencer’s Restaurant\, 701 W Baristo Rd\, Palm Springs\, CA\, 92262\, United States
CATEGORIES:Chamber Mixers,Featured,Member Events
END:VEVENT
END:VCALENDAR