BEGIN:VCALENDAR
VERSION:2.0
PRODID:-//Palm Springs Chamber of Commerce - ECPv6.15.20//NONSGML v1.0//EN
CALSCALE:GREGORIAN
METHOD:PUBLISH
X-ORIGINAL-URL:https://pschamber.org
X-WR-CALDESC:Events for Palm Springs Chamber of Commerce
REFRESH-INTERVAL;VALUE=DURATION:PT1H
X-Robots-Tag:noindex
X-PUBLISHED-TTL:PT1H
BEGIN:VTIMEZONE
TZID:America/Los_Angeles
BEGIN:DAYLIGHT
TZOFFSETFROM:-0800
TZOFFSETTO:-0700
TZNAME:PDT
DTSTART:20240310T100000
END:DAYLIGHT
BEGIN:STANDARD
TZOFFSETFROM:-0700
TZOFFSETTO:-0800
TZNAME:PST
DTSTART:20241103T090000
END:STANDARD
BEGIN:DAYLIGHT
TZOFFSETFROM:-0800
TZOFFSETTO:-0700
TZNAME:PDT
DTSTART:20250309T100000
END:DAYLIGHT
BEGIN:STANDARD
TZOFFSETFROM:-0700
TZOFFSETTO:-0800
TZNAME:PST
DTSTART:20251102T090000
END:STANDARD
BEGIN:DAYLIGHT
TZOFFSETFROM:-0800
TZOFFSETTO:-0700
TZNAME:PDT
DTSTART:20260308T100000
END:DAYLIGHT
BEGIN:STANDARD
TZOFFSETFROM:-0700
TZOFFSETTO:-0800
TZNAME:PST
DTSTART:20261101T090000
END:STANDARD
BEGIN:DAYLIGHT
TZOFFSETFROM:-0800
TZOFFSETTO:-0700
TZNAME:PDT
DTSTART:20270314T100000
END:DAYLIGHT
BEGIN:STANDARD
TZOFFSETFROM:-0700
TZOFFSETTO:-0800
TZNAME:PST
DTSTART:20271107T090000
END:STANDARD
END:VTIMEZONE
BEGIN:VEVENT
DTSTART;TZID=America/Los_Angeles:20260331T170000
DTEND;TZID=America/Los_Angeles:20260331T183000
DTSTAMP:20260422T090326
CREATED:20260226T212630Z
LAST-MODIFIED:20260310T174200Z
UID:24264-1774976400-1774981800@pschamber.org
SUMMARY:March Mixer - Palm Springs International Piano Competition
DESCRIPTION:Join the Palm Springs Chamber of Commerce for our March Mixer at the Palm Springs International Piano Competition!\nGuests will have the opportunity to network while enjoying light bites\, margaritas\, champagne\, and live music. A silent auction will also be available\, offering unique items and experiences to explore throughout the evening. \nCome experience one of the city’s unique cultural spaces while building connections with fellow business and community leaders. \nEvent Details\nTuesday\, March 31 | 5:00–6:30 PM\nPalm Springs International Piano Competition\n1276 N. Palm Canyon Drive\, Suite 210 \nTickets\nChamber Members: Complimentary\nNon-Members: $15 \nSpace is limited — advance registration is encouraged. \n\nIf you’re interested in donating a silent auction item or prize opportunity\, please\nclick here. \nFor more information\, please contact the Palm Springs Chamber of Commerce at 760-325-1577.
URL:https://pschamber.org/event/monthly-mixer-held-at-palm-springs-intl-piano/
LOCATION:Palm Springs International Piano Competition\, 1276 N. Palm Canyon Drive\, Suite 210\, Palm Springs\, CA\, 92223\, United States
CATEGORIES:Chamber Mixers,Featured,Member Events
END:VEVENT
BEGIN:VEVENT
DTSTART;TZID=America/Los_Angeles:20260326T113000
DTEND;TZID=America/Los_Angeles:20260326T130000
DTSTAMP:20260422T090326
CREATED:20260113T222023Z
LAST-MODIFIED:20260325T213259Z
UID:18596-1774524600-1774530000@pschamber.org
SUMMARY:Police and Fire Appreciation Luncheon 2026
DESCRIPTION:This event is officially sold out.\nThank you for your incredible support.\n \nPolice & Fire Appreciation Luncheon\nJoin the Palm Springs Chamber of Commerce for the Police & Fire Appreciation Luncheon\, a longstanding community tradition honoring the dedication and service of Palm Springs’ police officers and firefighters. \nThis annual luncheon brings together business leaders\, community members\, and City officials to recognize our first responders\, celebrate the partnership between public safety and the community\, and show meaningful support for those who keep Palm Springs safe. Consistently one of the Chamber’s most well-attended and sold-out events\, the luncheon offers a powerful opportunity to connect while giving back. \nFor businesses looking to support local first responders while gaining meaningful visibility\, view the sponsorship opportunities below. \n\nView Sponsorship Opportunities (PDF)\n \n\nQuestions? Contact the Palm Springs Chamber of Commerce at\n(760) 325-1577\nor\nnwatson@pschamber.org. \n \n\n \n\nSponsors\nPresident’s Circle\n\n \nEvent Sponsors\n \nHost Sponsor\n \nGold Sponsor\n \nSilver Sponsors\n\n \nEvent Partners\n \nWith Special Thanks
URL:https://pschamber.org/event/police-and-fire-luncheon-2026/
LOCATION:Palm Springs Convention Center\, 277 N. Avenida Caballeros\, Palm Springs\, CA\, 92262\, United States
CATEGORIES:Featured
END:VEVENT
BEGIN:VEVENT
DTSTART;TZID=America/Los_Angeles:20260324T170000
DTEND;TZID=America/Los_Angeles:20260324T183000
DTSTAMP:20260422T090326
CREATED:20260223T181030Z
LAST-MODIFIED:20260320T042539Z
UID:24206-1774371600-1774377000@pschamber.org
SUMMARY:FuturePS: AI Tech & Creative – March
DESCRIPTION:Where technology\, creativity\, and community meet in Palm Springs.\n\n\nFuturePS is an upscale\, low-key social gathering for builders\, founders\, artists\, educators\,\nand those curious about how AI and technology are reshaping life\, work\, and play in the desert. Designed for people\nwho care more about meaningful ideas than trendy buzzwords\, it’s a space where depth matters more than hype\,\nand connection replaces traditional networking. \nExpect good food\, a drink in hand\, better conversation\, and a Spotlight Guest to spark something in the room.\nNo panels. No pitch decks. Just smart people actively thinking about what’s next — swapping real lessons\, sharing new tools\, and leaving with either a useful connection or a genuine a-ha moment. \nEach event is intentionally small-format to create room for dialogue: founders unpacking what’s working (and what isn’t)\, creatives showing how AI is moving their process forward\, educators exploring its impact in the classroom\, and civic innovators imagining how technology can strengthen our communities. Whether you’re building the future or just curious about where it’s headed\, FuturePS is your place to plug in. \n\n\n\n\nMarch Spotlight Speaker: Chris Wilson\nFor March we welcome Chris Wilson\, a Google technology executive and member of the Palm Springs Technology Steering Committee\, for a deep dive into the new front lines of digital safety. With a career spanning years of leadership in infrastructure engineering to his current focus in the complex world of cybersecurity\, Chris brings an expert’s lens to the intersection of security\, privacy\, and artificial intelligence. \nIn his talk\, Chris will move beyond the headlines to address permanent digital climate change\, a world where cyberattacks are now forecasted to cost over $10 trillion globally. He will discuss the evolving threat landscape\, modern cybersecurity defenses\, and some actionable steps you can take to protect yourself. Join us for a conversation on how we can innovate safely and build a more secure\, connected Palm Springs together. \nPlus\, you’ll hear updates on the 2026 AI & Creativity Expo!\n\n\n\n\n\n\n\nTuesday\, March 24\, 2026 | 5:00–6:30 PM\nAgua Caliente Cultural Museum – Meeting Rooms A & B\n(140 N Indian Canyon Drive\, Palm Springs\, CA 92262) \n$40/person — small plates\, wine\, and beer included. \n\nFor more information\, email egray@pschamber.org\nor call (760) 325-1577.
URL:https://pschamber.org/event/futureps-march/
LOCATION:Agua Caliente Cultural Museum\, 140 Indian Canyon Dr\, Palm Springs\, CA\, 92262\, United States
CATEGORIES:Featured
END:VEVENT
BEGIN:VEVENT
DTSTART;TZID=America/Los_Angeles:20260224T160000
DTEND;TZID=America/Los_Angeles:20260224T180000
DTSTAMP:20260422T090326
CREATED:20260127T183112Z
LAST-MODIFIED:20260224T222649Z
UID:23934-1771948800-1771956000@pschamber.org
SUMMARY:PSP Mixer
DESCRIPTION:Join the Palm Springs Chamber of Commerce\, Greater Coachella Valley Chamber of Commerce\, and Palm Springs International Airport (PSP) for a joint networking mixer inside the airport.\n\nConnect with fellow business and community leaders while experiencing PSP from a behind-the-scenes perspective. Guests will enjoy light bites\, networking\, raffle opportunities\, and a chance to learn more about the airport’s ongoing improvements\, air service growth\, and how PSP supports the region’s economy and tourism. \nEvent Details\nTuesday\, February 24  |  4:00–6:00 PM\nPalm Springs International Airport (PSP) \nTickets\nChamber Members: Complimentary  |  Non-Members: $15 \nKnow Before You Go\nSpace is limited — advance registration is encouraged.\nEvent entry details (meeting location + parking info) will be shared with registered guests prior to the event. \n\nFor more information\, please call the Palm Springs Chamber at 760-325-1577\nor email Evan Gray\, Director of Programs + Creative Strategy at egray@pschamber.org.
URL:https://pschamber.org/event/psp-mixer/
LOCATION:Palm Springs International Airport\, 3400 E Tahquitz Way\, Palm Springs\, CA\, 92262\, United States
CATEGORIES:Chamber Mixers,Featured
END:VEVENT
BEGIN:VEVENT
DTSTART;TZID=America/Los_Angeles:20260218T170000
DTEND;TZID=America/Los_Angeles:20260218T183000
DTSTAMP:20260422T090326
CREATED:20260203T183628Z
LAST-MODIFIED:20260210T182016Z
UID:24021-1771434000-1771439400@pschamber.org
SUMMARY:FuturePS: AI Tech & Creative – February
DESCRIPTION:Where technology\, creativity\, and community meet in Palm Springs.\n\n\nFuturePS is an upscale\, low-key social gathering for builders\, founders\, artists\, educators\,\nand those curious about how AI and technology are reshaping life\, work\, and play in the desert. Designed for people\nwho care more about meaningful ideas than trendy buzzwords\, it’s a space where depth matters more than hype\,\nand connection replaces traditional networking. \nExpect good food\, a drink in hand\, better conversation\, and a Spotlight Guest to spark something in the room.\nNo panels. No pitch decks. Just smart people actively thinking about what’s next — swapping real lessons\, sharing new tools\, and leaving with either a useful connection or a genuine a-ha moment. \nEach event is intentionally small-format to create room for dialogue: founders unpacking what’s working (and what isn’t)\, creatives showing how AI is moving their process forward\, educators exploring its impact in the classroom\, and civic innovators imagining how technology can strengthen our communities. Whether you’re building the future or just curious about where it’s headed\,\nFuturePS is your place to plug in. \n\n\n\nFebruary Spotlight: Introducing the 2026 AI & Creativity Expo\nThe Tech SteerCo will share an early look at the vision for the 2026 AI & Creativity Expo including its purpose\, scope\, and opportunities for community participation. Attendees will hear how creators\, technologists\, educators\, and organizations can play a role as the event begins to take shape. \n\n\n\n\nWednesday\, February 18\, 2026 | 5:00–6:30 PM\nAgua Caliente Cultural Museum – Meeting Rooms A & B\n(140 N Indian Canyon Drive\, Palm Springs\, CA 92262) \n$40/person — small plates\, wine\, and beer included. \n\nFor more information\, email\negray@pschamber.org\nor call (760) 325-1577.
URL:https://pschamber.org/event/futureps-february/
LOCATION:Agua Caliente Cultural Museum\, 140 Indian Canyon Dr\, Palm Springs\, CA\, 92262\, United States
CATEGORIES:Featured
END:VEVENT
BEGIN:VEVENT
DTSTART;TZID=America/Los_Angeles:20260121T170000
DTEND;TZID=America/Los_Angeles:20260121T183000
DTSTAMP:20260422T090326
CREATED:20251204T181036Z
LAST-MODIFIED:20260107T170335Z
UID:23517-1769014800-1769020200@pschamber.org
SUMMARY:FuturePS: AI Tech & Creative – January
DESCRIPTION:Where technology\, creativity\, and community meet in Palm Springs.\nFuturePS is an upscale\, low-key social gathering for builders\, founders\, artists\, educators\,\nand those curious about how AI and technology are reshaping life\, work\, and play in the desert. Designed for people\nwho care more about meaningful ideas than trendy buzzwords\, it’s a space where depth matters more than hype\,\nand connection replaces traditional networking. \nExpect good food\, a drink in hand\, better conversation\, and a Spotlight Guest to spark something in the room.\nNo panels. No pitch decks. Just smart people actively thinking about what’s next — swapping real lessons\, sharing new tools\,\nand leaving with either a useful connection or a genuine a-ha moment. \n\n\n\nFeatured Spotlight Guest: Kelly Boesch\nWe’re excited to welcome Kelly Boesch\, a globally recognized AI artist whose cinematic\, emotionally resonant work\nhas captivated millions across social platforms. \nKelly creates surreal musical and visual stories using generative AI — blending human creativity and imagination with machine intelligence.\nAt FuturePS\, she’ll share and showcase her work\, offering a behind-the-scenes look at her creative process and how she\ncollaborates with AI as an artistic partner. \nPreview her work: \n• Website & portfolio: kellyboesch.com\n• YouTube (AI short films & visuals): @kellyeld2323\n• Instagram (AI art & motion): @kelly_boesch_ai_art \nHer work will help spark a broader conversation about creativity\, authorship\, and where art and technology are headed next. \n\n\nCommunity Spotlight: College of the Desert\nIn addition to our featured spotlight guest\, attendees will also hear a brief update from\nCollege of the Desert on the launch of its new AI-focused course curriculum. \nThis update will highlight how local education partners are responding to emerging technologies\,\npreparing students for the future of work\, and expanding access to AI literacy across the Coachella Valley. \n\n\n\nEach event is intentionally small-format to create room for dialogue: founders unpacking what’s working (and what isn’t)\,\ncreatives showing how AI is moving their process forward\, educators exploring its impact in the classroom\, and civic innovators\nimagining how technology can strengthen our communities. Whether you’re building the future or just curious about where it’s headed\,\nFuturePS is your place to plug in. \n\nWednesday\, January 21\, 2026 | 5:00–6:30 PM\nAgua Caliente Cultural Museum – Meeting Rooms A & B\n(140 N Indian Canyon Drive\, Palm Springs\, CA 92262) \n$40/person — small plates\, wine\, and beer included. \n\n\nFor more information\, email\negray@pschamber.org\nor call the Palm Springs Chamber at (760) 325-1577.
URL:https://pschamber.org/event/futureps-january/
LOCATION:Agua Caliente Cultural Museum\, 140 Indian Canyon Dr\, Palm Springs\, CA\, 92262\, United States
CATEGORIES:Featured
END:VEVENT
BEGIN:VEVENT
DTSTART;TZID=America/Los_Angeles:20251204T170000
DTEND;TZID=America/Los_Angeles:20251204T183000
DTSTAMP:20260422T090326
CREATED:20251124T214626Z
LAST-MODIFIED:20251204T183229Z
UID:23419-1764867600-1764873000@pschamber.org
SUMMARY:FuturePS: AI Tech & Creative - December
DESCRIPTION:Where technology\, creativity\, and community meet in Palm Springs.\nFuturePS is an upscale\, low-key social gathering for builders\, founders\, artists\, educators\, and those curious about how AI and technology are reshaping life\, work\, and play in the desert. Designed for people who care more about meaningful ideas than trendy buzzwords\, it’s a space where depth matters more than hype\, and connection replaces traditional networking. \nExpect good food\, a drink in hand\, better conversation\, and a Spotlight Guest to spark something in the room. No panels. No pitch decks. Just smart people actively thinking about what’s next — swapping real lessons\, sharing new tools\, and leaving with either a useful connection or a genuine a-ha moment. \nEach event is intentionally small-format to create room for dialogue: founders unpacking what’s working (and what isn’t)\, creatives showing how AI is moving their process forward\, educators exploring its impact in the classroom\, and civic innovators imagining how technology can strengthen our communities. Whether you’re building the future or just curious about where it’s headed\, FuturePS is your place to plug in. \n\n\nThursday\, December 4\, 2025 | 5:00–6:30 PM\nAgua Caliente Cultural Museum – Meeting Rooms A & B\n(140 N Indian Canyon Drive\, Palm Springs\, CA 92262) \n\n$40/person — small plates\, wine\, and beer included.\n\n\nFor more information\, please email egray@pschamber.org or call the Palm Springs Chamber at (760) 325-1577.
URL:https://pschamber.org/event/futureps-1225/
LOCATION:Agua Caliente Cultural Museum\, 140 Indian Canyon Dr\, Palm Springs\, CA\, 92262\, United States
CATEGORIES:Featured
END:VEVENT
BEGIN:VEVENT
DTSTART;TZID=America/Los_Angeles:20251104T170000
DTEND;TZID=America/Los_Angeles:20251104T183000
DTSTAMP:20260422T090326
CREATED:20251020T184644Z
LAST-MODIFIED:20251201T184117Z
UID:23118-1762275600-1762281000@pschamber.org
SUMMARY:FuturePS: AI Tech & Creative - November
DESCRIPTION:This event has concluded.\nTickets for the December 4 session are available here.\nAll future updates can be found on our newly launched FuturePS landing page.
URL:https://pschamber.org/event/psfuture/
LOCATION:Agua Caliente Cultural Museum\, 140 Indian Canyon Dr\, Palm Springs\, CA\, 92262\, United States
CATEGORIES:Featured
END:VEVENT
BEGIN:VEVENT
DTSTART;TZID=America/Los_Angeles:20250917T170000
DTEND;TZID=America/Los_Angeles:20250917T210000
DTSTAMP:20260422T090326
CREATED:20250312T195556Z
LAST-MODIFIED:20250917T043922Z
UID:19112-1758128400-1758142800@pschamber.org
SUMMARY:Annual Business Expo & Taste of Palm Springs
DESCRIPTION:The biggest business and food event of the year is back — and better than ever!\n \nMark your calendar for Wednesday\, September 17 at Indian Canyons Golf Resort and join us for the\nAnnual Business Expo & Taste of Palm Springs. Explore 100+ local businesses\, savor bites from 40+ restaurants\, and enjoy wine & beer tastings throughout the evening. Your wristband also includes live entertainment\, featuring Prince Again — the #1 Tribute to Prince. \n\n  \nWin Alaska Airlines Flight Vouchers!\nAs part of this year’s Business Expo & Taste of Palm Springs\, we’re hosting a special\nAlaska Airlines Flight Voucher Giveaway! \nDetails: Two (2) Alaska Airlines flight vouchers\, valued at $1\,750 each ($3\,500 total) •\nValid for travel to North/Central America & Hawaii • Giveaway tickets: $20 each \nGiveaway tickets are available for purchase at the event. \n \n\n \nBecome a Sponsor or Host a Booth → \nJoin as a Food or Beverage Vendor → \nQuestions? Contact nwatson@pschamber.org. \n \n\n \nConfirmed Sponsor Booths (as of Sept. 10)\nPresident’s Circle\nAgua Caliente Band of Cahuilla Indians • Alaska Airlines • Altura Credit Union • City of Palm Springs • DAP Health • Desert Care Network • Eisenhower Health • Elevated Experiences • Grit Development • Kaiser Permanente • Lulu California Bistro • Miralon • Palm Springs International Film Festival • Palm Springs Police Association • The Plaza Theatre • Schlecht\, Shevlin & Shoenberger A Law Corporation • Southern California Edison • Southwest Airlines • Sun Community Federal Credit Union \nTitle Sponsor\n\nHarlow Gardens Residential Treatment Center \nEvent Sponsors\n\nAlpha Media • Ambitious Supply Co • Bolour / Carl Immigration Group • Canyon Print and Signs • Cindy Pieper Agency – State Farm Insurance • KESQ News Channel 3 • KGAY 106.5 Palm Springs – Gay Desert Guide • Lennar • O’Linn Security Inc. \nSupporting Sponsors\n29-PSP • Blair Heating & Air • Desert Water Agency • Modern Cactus • Palm Springs Disposal Service • Pharos Athletic Club • Rivian • Urban Worldwide • Windmill City Screen Printing \nIn-Kind Sponsors\nDirect Source Distributing \n \n\n \nConfirmed Food & Beverage Vendors (as of Sept. 10)\n1501 Uptown Gastropub • Above Board • Acai Oasis • Agua Caliente Casino • Alice B • Ben & Jerry’s • Boozehounds • Brandini Toffee • Brewery X • BuzzBox • Carmela Ice Cream • Casa Blanca • Charmed Spirits Mobile Bar\, Tea House & Events • Chi Chi Restaurant • Churrasco Brazilian Steakhouse • Colony Club • Coomber Craft Wine • Daniel’s Table • Desert Water Agency • Dragon Lili Boba Bar • Elvira’s Taqueria • F10 Catering • FiveO3 Pupusas • Hair of the Dog • Hot Cookie • Hyatt Palm Springs • Ice Cream & Shop(pe) • Joshua Tree Brewing Co. • Kaiser Grill • Karl Strauss • Kimpton Rowan – 4 Saints • Las Casuelas Terraza • Luchador Brewing Company • Lulu California Bistro • Melvyn’s • Miti Boards • Palmia Corporation • Pinocchio of the Desert • Raising Cane’s • Savoury’s • Shep the Rep • Sherman’s Deli • Sunstream Brands • The Juice • The Old Spaghetti Factory • The Social Café & Play Lounge • Tommy Bahama Marlin Bar • Trio \n \n\n \nConfirmed Business & Organization Booths (as of Sept. 10)\nAaron Jay Young Studio • American Legion Post 519 • Applied General Agency • Austyn Wells Spiritual Medium • Bertelli & Co. • California Financial Partners • Cherie Miller & Associates • Cintas • Classic Cruise Rentals • Club Pilates • Coachella Valley Referral Partners • Courtyard by Marriott\, Palm Springs • Desert Oasis Healthcare • Edward Jones – Matthew Howe • Education First • Eklund Fencing and Gates • Gameday Men’s Health • GrandParents Love • Greater Coachella Valley Chamber of Commerce • Guide Dogs of the Desert • Hartunian Law • Firm Hocker Productions • Lifetime Home Remodeling • Palm Springs Animal Shelter • Palm Springs Concert Association • Palm Springs Fire Department • Palm Springs Police Department • Parkinson’s Resource Organization • PRISM Theater / Desert TheatreWorks Corp. • Repair Lab • Rooted in Palm Springs • Rotary Club of Palm Springs • Rotary Club of Palm Springs Sunup • Sam’s Club • Seek Personnel Staffing • SunnyCyle • Sustainable Civil Engineering • The Lazy C Ranch • The Mic Bike • T-Mobile • YogaSix \n \n\n\n \n\nTicket Details\nYour online ticket purchase includes an event wristband\, which serves as your admission. \nEarly Pickup Available:\nSeptember 8 – 16 • 9:00 a.m. – 3:00 p.m. daily\nPalm Springs Chamber of Commerce\n190 W Amado Road\, Palm Springs\, CA 92262 \nIf you don’t pick up in advance\, your wristband will be ready for you at Will Call on the day of the event.
URL:https://pschamber.org/event/business_expo_taste_of_palm_springs/
LOCATION:Indian Canyons Golf Resot\, 1100 E Murray Canyon Drive\, Palm Springs\, CA\, 92264\, United States
CATEGORIES:Featured
END:VEVENT
BEGIN:VEVENT
DTSTART;TZID=America/Los_Angeles:20250717T170000
DTEND;TZID=America/Los_Angeles:20250717T190000
DTSTAMP:20260422T090326
CREATED:20250312T195030Z
LAST-MODIFIED:20250716T204233Z
UID:19107-1752771600-1752778800@pschamber.org
SUMMARY:Annual Palm Springs Aerial Tramway Mixer
DESCRIPTION:Our Palm Springs Aerial Tramway Mixer is officially at capacity—tickets are sold out!\nThank you to everyone who RSVP’d. We can’t wait to see you there!\nTake a ride on the Palm Springs Aerial Tramway—the world’s largest rotating tram car—and ascend to the Mountain Station at 8\,516 feet atop Mt. San Jacinto. This annual event offers a unique opportunity to unwind and connect with others high above the July heat\, where temperatures are 30 degrees cooler than the desert floor. \nYour Ticket Includes:\n– Round-trip tram ride to the top\n– Multiple food stations curated by Peaks Restaurant\n– Half-price alcoholic beverages\n– Raffle prizes & silent auction opportunities \nPlease Note:\n– Space is limited.\n– An advanced ticket purchase is required.\n– Pre-check for this event will be at 4:00 p.m.\, with tram cars departing between 4:00 p.m. and 5:00 p.m.\n– Parking is included with a valid ID with addresses including Mecca\, Thermal\, Coachella\, Indio\, La Quinta\, Indian Wells\, Palm Desert\, Rancho Mirage\, Cathedral City\, Palm Springs\, Thousand Palms and Desert Hot Springs\, Morongo Valley\, Yucca Valley\, Twenty-Nine Palms\, Joshua Tree. \n\n\nIf you’re interested in being involved with our silent auction or prize-buys\, email egray@pschamber.org.
URL:https://pschamber.org/event/aerial-tramway-mixer/
LOCATION:Palm Springs Aerial Tramway\, 1 Tramway\, Palm Springs\, 92262
CATEGORIES:Chamber Mixers,Featured,Member Events
END:VEVENT
BEGIN:VEVENT
DTSTART;TZID=America/Los_Angeles:20250623T083000
DTEND;TZID=America/Los_Angeles:20250623T170000
DTSTAMP:20260422T090326
CREATED:20250526T042703Z
LAST-MODIFIED:20250623T163011Z
UID:19560-1750667400-1750698000@pschamber.org
SUMMARY:Palm Springs AI & Creativity Expo 2025
DESCRIPTION:THIS EVENT HAS ENDED!!! SEE YOU NEXT YEAR \n\nOne-Day Expo Exploring the Impact of Artificial Intelligence (AI) on our Lives and How It Can Empower our Community. \nClick the links below for more information:\n\nAbout the Expo\nProgram Schedule\nFeatured Speakers\nSponsors\nGenJam Overview\nAttendee Q & A\nAsk the Experts\n\nA Community Learning Experience for Residents\, Businesses\, Students & Creative Artists 
URL:https://pschamber.org/event/aiexpo/
LOCATION:Palm Springs Convention Center\, 277 N. Avenida Caballeros\, Palm Springs\, CA\, 92262\, United States
CATEGORIES:Featured
ORGANIZER;CN="Palm Springs Chamber of Commerce":MAILTO:info@pschamber.org
END:VEVENT
BEGIN:VEVENT
DTSTART;TZID=America/Los_Angeles:20250416T170000
DTEND;TZID=America/Los_Angeles:20250416T190000
DTSTAMP:20260422T090326
CREATED:20250313T200901Z
LAST-MODIFIED:20250317T211616Z
UID:19131-1744822800-1744830000@pschamber.org
SUMMARY:Eisenhower Health Annual Mixer
DESCRIPTION:Join Eisenhower Health and the Palm Springs Chamber of Commerce for one of the year’s most exclusive networking events. Held in the Bougainvillea Room at Spencer’s Restaurant\, this event offers a prime opportunity to connect with fellow business and community leaders in an upscale yet welcoming setting. Your ticket includes an evening of exceptional hospitality\, featuring gourmet hors d’oeuvres and premium refreshments. \nTickets (Required for Entry)\nChamber Members: $20\nGuests & Future Members: $30\nAll proceeds benefit the Palm Springs Chamber of Commerce. \nSecure your spot today—this is an event you won’t want to miss! \n 
URL:https://pschamber.org/event/eisenhower-health-annual-mixer/
LOCATION:Spencer’s Restaurant\, 701 W Baristo Rd\, Palm Springs\, CA\, 92262\, United States
CATEGORIES:Chamber Mixers,Featured,Member Events
END:VEVENT
BEGIN:VEVENT
DTSTART;TZID=America/Los_Angeles:20250409T190000
DTEND;TZID=America/Los_Angeles:20250409T210000
DTSTAMP:20260422T090326
CREATED:20250303T210628Z
LAST-MODIFIED:20250303T210728Z
UID:19037-1744225200-1744232400@pschamber.org
SUMMARY:Chamber Night at Acrisure Arena
DESCRIPTION:Chamber Night at Acrisure Arena\nJoin us at Acrisure Arena for Chamber Night as the Coachella Valley Firebirds face off against the San Jose Barracuda at 7:00 p.m. on April 9th! This evening brings together Chambers from across the Valley\, making it the perfect opportunity to connect\, network\, and cheer on the Firebirds with fellow business leaders. \nYour ticket includes:\n– A $6 donation benefiting the Palm Springs Chamber of Commerce\n– Access to the exclusive Silvercrest Compound\n– Complimentary food & drinks (beer\, wine\, and soda included!)\n– Unparalleled networking with Chambers from across the Valley\n– A ticket to the Firebirds game \nTo purchase tickets\, please click here.
URL:https://pschamber.org/event/chamber-night/
LOCATION:Acrisure Arena\, 75702 Varner Rd.\, Palm Desert\, CA\, 92211\, United States
CATEGORIES:Featured
END:VEVENT
BEGIN:VEVENT
DTSTART;TZID=America/Los_Angeles:20250305T113000
DTEND;TZID=America/Los_Angeles:20250305T130000
DTSTAMP:20260422T090326
CREATED:20250114T233739Z
LAST-MODIFIED:20260113T222228Z
UID:18604-1741174200-1741179600@pschamber.org
SUMMARY:Police and Fire Appreciation Luncheon 2025
DESCRIPTION:Police and Fire Appreciation Luncheon\nThis event is officially sold out! Thank you to everyone who secured a seat—we can’t wait to celebrate with you.
URL:https://pschamber.org/event/policeandfire2025/
LOCATION:Palm Springs Convention Center\, 277 N. Avenida Caballeros\, Palm Springs\, CA\, 92262\, United States
CATEGORIES:Featured
ORGANIZER;CN="Palm Springs Chamber of Commerce":MAILTO:info@pschamber.org
END:VEVENT
BEGIN:VEVENT
DTSTART;TZID=America/Los_Angeles:20250213T170000
DTEND;TZID=America/Los_Angeles:20250213T190000
DTSTAMP:20260422T090326
CREATED:20250203T172917Z
LAST-MODIFIED:20250203T211445Z
UID:18798-1739466000-1739473200@pschamber.org
SUMMARY:February Mixer at Festival Theaters
DESCRIPTION:February Mixer at Festival Theaters\nKick off Modernism Week with us at the Palm Springs Chamber February Mixer and be among the first to experience the revitalized Festival Theaters! Formerly a Regal Cinema\, this space has been transformed into a state-of-the-art venue—and is one of the final architectural masterpieces designed by Donald Wexler. \nEnjoy networking\, exclusive theater tours\, two drink tickets\, and delicious hors d’oeuvres as you explore this stunning space. \nTickets: $10 for members | $15 for future members (While Chamber Mixers are typically free for members\, this venue requires a ticketed structure to include drinks and ensure a seamless experience.) \nCome connect with fellow professionals\, check out this incredible space\, and make it your first stop before heading into Modernism Week’s festivities. \nFor more information\, contact Evan Gray\, Director of Programs + Creative Strategy\, at egray@pschamber.org.
URL:https://pschamber.org/event/february-mixer-at-festival-theaters/
LOCATION:Festival Theaters\, 789 E Tahquitz Canyon Way\, Palm Springs\, CA\, 92262\, United States
CATEGORIES:Chamber Mixers,Featured
END:VEVENT
END:VCALENDAR