BEGIN:VCALENDAR
VERSION:2.0
PRODID:-//Palm Springs Chamber of Commerce - ECPv6.15.20//NONSGML v1.0//EN
CALSCALE:GREGORIAN
METHOD:PUBLISH
X-ORIGINAL-URL:https://pschamber.org
X-WR-CALDESC:Events for Palm Springs Chamber of Commerce
REFRESH-INTERVAL;VALUE=DURATION:PT1H
X-Robots-Tag:noindex
X-PUBLISHED-TTL:PT1H
BEGIN:VTIMEZONE
TZID:America/Los_Angeles
BEGIN:DAYLIGHT
TZOFFSETFROM:-0800
TZOFFSETTO:-0700
TZNAME:PDT
DTSTART:20250309T100000
END:DAYLIGHT
BEGIN:STANDARD
TZOFFSETFROM:-0700
TZOFFSETTO:-0800
TZNAME:PST
DTSTART:20251102T090000
END:STANDARD
BEGIN:DAYLIGHT
TZOFFSETFROM:-0800
TZOFFSETTO:-0700
TZNAME:PDT
DTSTART:20260308T100000
END:DAYLIGHT
BEGIN:STANDARD
TZOFFSETFROM:-0700
TZOFFSETTO:-0800
TZNAME:PST
DTSTART:20261101T090000
END:STANDARD
BEGIN:DAYLIGHT
TZOFFSETFROM:-0800
TZOFFSETTO:-0700
TZNAME:PDT
DTSTART:20270314T100000
END:DAYLIGHT
BEGIN:STANDARD
TZOFFSETFROM:-0700
TZOFFSETTO:-0800
TZNAME:PST
DTSTART:20271107T090000
END:STANDARD
END:VTIMEZONE
BEGIN:VEVENT
DTSTART;TZID=America/Los_Angeles:20260203T120000
DTEND;TZID=America/Los_Angeles:20260203T130000
DTSTAMP:20260422T123620
CREATED:20250106T062214Z
LAST-MODIFIED:20260203T011255Z
UID:17544-1770120000-1770123600@pschamber.org
SUMMARY:Leads Lunch
DESCRIPTION:You’re invited to join the Palm Springs Chamber of Commerce at our February Lead$ Lunch hosted at Bougainvillea Fresh Cuisine. If you’re a Palm Springs Chamber Member\, there’s no admission fee—just cover the cost of your lunch. RSVP is not needed to attend.
URL:https://pschamber.org/event/lead-lunch-4/
LOCATION:Bougainvillea Fresh Cuisine\, 555 S Sunrise Way Suite 108\, Palm Springs\, CA\, 92264\, United States
CATEGORIES:Lead$ Lun¢h
END:VEVENT
BEGIN:VEVENT
DTSTART;TZID=America/Los_Angeles:20260210T120000
DTEND;TZID=America/Los_Angeles:20260210T130000
DTSTAMP:20260422T123620
CREATED:20250106T062340Z
LAST-MODIFIED:20260203T011334Z
UID:17548-1770724800-1770728400@pschamber.org
SUMMARY:Leads Lunch
DESCRIPTION:You’re invited to join the Palm Springs Chamber of Commerce at our February Lead$ Lunch hosted at Bougainvillea Fresh Cuisine. If you’re a Palm Springs Chamber Member\, there’s no admission fee—just cover the cost of your lunch. RSVP is not needed to attend.
URL:https://pschamber.org/event/lead-lunch-6/
LOCATION:Bougainvillea Fresh Cuisine\, 555 S Sunrise Way Suite 108\, Palm Springs\, CA\, 92264\, United States
CATEGORIES:Lead$ Lun¢h
END:VEVENT
BEGIN:VEVENT
DTSTART;TZID=America/Los_Angeles:20260224T120000
DTEND;TZID=America/Los_Angeles:20260224T130000
DTSTAMP:20260422T123620
CREATED:20250106T061306Z
LAST-MODIFIED:20260203T011423Z
UID:17512-1771934400-1771938000@pschamber.org
SUMMARY:Leads Lunch
DESCRIPTION:You’re invited to join the Palm Springs Chamber of Commerce at our February Lead$ Lunch hosted at Bougainvillea Fresh Cuisine. If you’re a Palm Springs Chamber Member\, there’s no admission fee—just cover the cost of your lunch. RSVP is not needed to attend.
URL:https://pschamber.org/event/lead-lunch-3/
LOCATION:Bougainvillea Fresh Cuisine\, 555 S Sunrise Way Suite 108\, Palm Springs\, CA\, 92264\, United States
CATEGORIES:Lead$ Lun¢h
END:VEVENT
END:VCALENDAR