BEGIN:VCALENDAR
VERSION:2.0
PRODID:-//Palm Springs Chamber of Commerce - ECPv6.15.20//NONSGML v1.0//EN
CALSCALE:GREGORIAN
METHOD:PUBLISH
X-ORIGINAL-URL:https://pschamber.org
X-WR-CALDESC:Events for Palm Springs Chamber of Commerce
REFRESH-INTERVAL;VALUE=DURATION:PT1H
X-Robots-Tag:noindex
X-PUBLISHED-TTL:PT1H
BEGIN:VTIMEZONE
TZID:America/Los_Angeles
BEGIN:DAYLIGHT
TZOFFSETFROM:-0800
TZOFFSETTO:-0700
TZNAME:PDT
DTSTART:20250309T100000
END:DAYLIGHT
BEGIN:STANDARD
TZOFFSETFROM:-0700
TZOFFSETTO:-0800
TZNAME:PST
DTSTART:20251102T090000
END:STANDARD
BEGIN:DAYLIGHT
TZOFFSETFROM:-0800
TZOFFSETTO:-0700
TZNAME:PDT
DTSTART:20260308T100000
END:DAYLIGHT
BEGIN:STANDARD
TZOFFSETFROM:-0700
TZOFFSETTO:-0800
TZNAME:PST
DTSTART:20261101T090000
END:STANDARD
BEGIN:DAYLIGHT
TZOFFSETFROM:-0800
TZOFFSETTO:-0700
TZNAME:PDT
DTSTART:20270314T100000
END:DAYLIGHT
BEGIN:STANDARD
TZOFFSETFROM:-0700
TZOFFSETTO:-0800
TZNAME:PST
DTSTART:20271107T090000
END:STANDARD
END:VTIMEZONE
BEGIN:VEVENT
DTSTART;TZID=America/Los_Angeles:20260429T140000
DTEND;TZID=America/Los_Angeles:20260429T143000
DTSTAMP:20260422T121005
CREATED:20250501T172335Z
LAST-MODIFIED:20260420T213901Z
UID:19504-1777471200-1777473000@pschamber.org
SUMMARY:Vinophile Café Grand Opening & Ribbon Cutting
DESCRIPTION:We’re excited to welcome Vinophile Café to the community with an official Grand Opening & Ribbon Cutting Ceremony!\nJoin us on Wednesday\, April 29\, 2026 at 2:00 p.m. as we celebrate the opening of this new wine café in the heart of Palm Springs. This event is open to the public—come raise a glass\, meet the team\, and help us officially welcome Vinophile Café to the neighborhood. \n\n\nAbout Vinophile Café:\nVinophile Café draws from the ease and charm of European wine culture—where every glass has a story and every guest feels at home. Founded by certified sommelier Jennifer Carter\, it brings together natural wines\, artisanal coffee\, and fresh\, vibrant bites in an inviting\, art-forward space. Not in the mood for wine? Organic French-pressed coffee\, loose-leaf teas\, and a curated lineup of non-alcoholic options—from botanical tonics to zero-proof wines—are crafted with the same level of care. More than a café\, Vinophile is a place to gather\, with tastings and curated events designed to spark connection and keep people coming back.
URL:https://pschamber.org/event/vinophile-cafe-ribbon-cutting/
LOCATION:Vinophile Cafe\, 540 S Indian Canyon Dr.\, Palm Springs\, CA\, 92262\, United States
CATEGORIES:Ribbon Cuttings
END:VEVENT
BEGIN:VEVENT
DTSTART;TZID=America/Los_Angeles:20260429T170000
DTEND;TZID=America/Los_Angeles:20260429T173000
DTSTAMP:20260422T121005
CREATED:20250506T182623Z
LAST-MODIFIED:20260406T193502Z
UID:19519-1777482000-1777483800@pschamber.org
SUMMARY:Konnections Certification & Foundation Ribbon Cutting
DESCRIPTION:We’re excited to celebrate Konnections Certification with an official Certification & Foundation Ribbon Cutting ceremony!\nJoin us on Wednesday\, April 29\, 2026\, at 5:00 p.m. at the Palm Springs Surf Club Rooftop. \nThe evening will begin with a joint ribbon-cutting ceremony\, followed by a celebration honoring Konnectees who have earned their certification in networking—a meaningful milestone recognizing their growth\, courage\, and commitment to building genuine connections. \nEvening Highlights Include:\n— Silent auction featuring Caribbean vacation packages\n— Two exclusive packages elevated to a live auction experience\n— Tropical hors d’oeuvres\n— Cash bar\n— Recognition of the Konnections team receiving their Neurodiverse Workplace Certification\, in collaboration with Visit Greater Palm Springs \nThis evening brings together connection\, celebration\, and community—recognizing the power of showing up\, building relationships\, and creating opportunities across generations. \n\n\nAbout Konnections Certification:\n \nAs industries continue to evolve\, one consistent challenge remains—many emerging professionals lack confidence in face-to-face communication and networking. Yet for generations\, the ability to build meaningful relationships has been a cornerstone of personal and professional success.\nKonnections Certification is designed to bridge that gap. Through intentional\, hands-on learning\, participants develop essential soft skills and real-world networking experience—equipping them to build authentic connections\, expand their opportunities\, and navigate today’s professional landscape with confidence.\nBy investing in these foundational skills\, Konnections Certification is helping shape a more connected\, capable\, and future-ready workforce.
URL:https://pschamber.org/event/konnections-ribbon-cutting/
LOCATION:Palm Springs Surf Club\, 1500 S Gene Autry Trail\, Palm Springs
CATEGORIES:Ribbon Cuttings
END:VEVENT
END:VCALENDAR