BEGIN:VCALENDAR
VERSION:2.0
PRODID:-//Palm Springs Chamber of Commerce - ECPv6.15.20//NONSGML v1.0//EN
CALSCALE:GREGORIAN
METHOD:PUBLISH
X-ORIGINAL-URL:https://pschamber.org
X-WR-CALDESC:Events for Palm Springs Chamber of Commerce
REFRESH-INTERVAL;VALUE=DURATION:PT1H
X-Robots-Tag:noindex
X-PUBLISHED-TTL:PT1H
BEGIN:VTIMEZONE
TZID:America/Los_Angeles
BEGIN:DAYLIGHT
TZOFFSETFROM:-0800
TZOFFSETTO:-0700
TZNAME:PDT
DTSTART:20240310T100000
END:DAYLIGHT
BEGIN:STANDARD
TZOFFSETFROM:-0700
TZOFFSETTO:-0800
TZNAME:PST
DTSTART:20241103T090000
END:STANDARD
BEGIN:DAYLIGHT
TZOFFSETFROM:-0800
TZOFFSETTO:-0700
TZNAME:PDT
DTSTART:20250309T100000
END:DAYLIGHT
BEGIN:STANDARD
TZOFFSETFROM:-0700
TZOFFSETTO:-0800
TZNAME:PST
DTSTART:20251102T090000
END:STANDARD
BEGIN:DAYLIGHT
TZOFFSETFROM:-0800
TZOFFSETTO:-0700
TZNAME:PDT
DTSTART:20260308T100000
END:DAYLIGHT
BEGIN:STANDARD
TZOFFSETFROM:-0700
TZOFFSETTO:-0800
TZNAME:PST
DTSTART:20261101T090000
END:STANDARD
BEGIN:DAYLIGHT
TZOFFSETFROM:-0800
TZOFFSETTO:-0700
TZNAME:PDT
DTSTART:20270314T100000
END:DAYLIGHT
BEGIN:STANDARD
TZOFFSETFROM:-0700
TZOFFSETTO:-0800
TZNAME:PST
DTSTART:20271107T090000
END:STANDARD
END:VTIMEZONE
BEGIN:VEVENT
DTSTART;TZID=America/Los_Angeles:20260410T100000
DTEND;TZID=America/Los_Angeles:20260410T103000
DTSTAMP:20260422T092525
CREATED:20250428T183222Z
LAST-MODIFIED:20260409T194524Z
UID:19462-1775815200-1775817000@pschamber.org
SUMMARY:Palm Springs Cemetery District Ribbon Cutting
DESCRIPTION:We’re honored to celebrate the Palm Springs Cemetery District and the dedication of their new cremation niches with an official Ribbon Cutting ceremony!\nJoin us on Friday\, April 10\, 2026\, at 10:00 a.m. This event is open to the public. \n\n\nAbout Palm Springs Cemetery District:\nEstablished in 1917\, the Palm Springs Cemetery District is a public agency dedicated to serving the Coachella Valley with care\, dignity\, and respect. The District operates two cemeteries—Welwood Murray Cemetery in Palm Springs and Desert Memorial Park in Cathedral City—providing burial and memorial services for residents across the region. \nWith more than a century of service\, the District plays an important role in preserving local history while offering a peaceful setting for remembrance. From early desert pioneers to notable community figures\, the cemeteries reflect the legacy and stories that have shaped the Coachella Valley.
URL:https://pschamber.org/event/ps-cemetary-district-ribbon-cutting/
LOCATION:Welwood Murray Cemetery\, 471 Chino Drive\, Palm Springs\, 92262\, United States
CATEGORIES:Ribbon Cuttings
END:VEVENT
BEGIN:VEVENT
DTSTART;TZID=America/Los_Angeles:20260330T140000
DTEND;TZID=America/Los_Angeles:20260330T143000
DTSTAMP:20260422T092525
CREATED:20250429T173630Z
LAST-MODIFIED:20260306T221249Z
UID:19467-1774879200-1774881000@pschamber.org
SUMMARY:Junk King Palm Springs Grand Opening & Ribbon Cutting
DESCRIPTION:We’re excited to welcome Junk King Palm Springs to the community with an official Grand Opening & Ribbon Cutting Ceremony!\nJoin us on Monday\, March 30\, 2026\, at 2:00 p.m. as we celebrate the opening of this new locally operated business serving the Palm Springs community. This event is open to the public — come help us welcome Junk King Palm Springs and learn more about the services they provide to residents and businesses throughout the Coachella Valley. \n\n\nAbout Junk King Palm Springs:\n\nJunk King Palm Springs provides fast\, reliable junk removal services for homes and businesses throughout the region. From furniture and appliances to yard debris and construction materials\, the team helps customers clear out unwanted items quickly and responsibly. \nAs part of the nationally recognized Junk King network\, the company emphasizes environmentally responsible practices by recycling\, reusing\, and donating as much material as possible to reduce landfill waste. Their professional crews handle the heavy lifting\, making it easy for customers to reclaim space while knowing items are being disposed of thoughtfully.
URL:https://pschamber.org/event/junk-king-ribbon-cutting/
LOCATION:Junk King Palm Springs\, 1130 N Valdivia Way\, Unit A\, Palm Springs\, CA\, 92262\, United States
CATEGORIES:Ribbon Cuttings
END:VEVENT
BEGIN:VEVENT
DTSTART;TZID=America/Los_Angeles:20260209T160000
DTEND;TZID=America/Los_Angeles:20260209T163000
DTSTAMP:20260422T092525
CREATED:20251015T193733Z
LAST-MODIFIED:20260203T190548Z
UID:23080-1770652800-1770654600@pschamber.org
SUMMARY:Palm Canyon Axe Club Grand Opening & Ribbon Cutting
DESCRIPTION:We’re excited to celebrate the grand opening of Palm Canyon Axe Club with an official Ribbon Cutting Ceremony!\nJoin us on Monday\, February 9 at 4:00 p.m. This event is open to the public. \n\n\nAbout Palm Canyon Axe Club\nPalm Canyon Axe Club is a new experiential entertainment venue coming soon to Palm Springs\, offering axe throwing\, an arcade\, and a rage room — all under one roof. Designed as a high-energy space for friends\, teams\, and thrill-seekers alike\, the venue brings a fresh\, interactive experience to the local entertainment scene.
URL:https://pschamber.org/event/palm-canyon-axe-club-ribbon-cutting/
LOCATION:Palm Canyon Axe Club\, 320 N Palm Canyon Dr.\, Palm Springs\, CA\, 92262\, United States
CATEGORIES:Ribbon Cuttings
END:VEVENT
BEGIN:VEVENT
DTSTART;TZID=America/Los_Angeles:20260203T113000
DTEND;TZID=America/Los_Angeles:20260203T113000
DTSTAMP:20260422T092525
CREATED:20251027T204414Z
LAST-MODIFIED:20260126T193911Z
UID:23277-1770118200-1770118200@pschamber.org
SUMMARY:Caliber Collision Ribbon Cutting
DESCRIPTION:We’re excited to celebrate Caliber Collision’s new Palm Springs location with an official Ribbon Cutting Ceremony!\nJoin us Tuesday\, February 3 at 11:30 a.m. This event is open to the public. \n\n\nAbout Caliber Collision:\nCaliber Collision provides high-quality auto body repair services with a strong focus on transparency\, communication\, and customer care. Understanding that vehicle repairs often come during stressful moments\, the Caliber team works to make the process as smooth and straightforward as possible—keeping customers informed every step of the way. \nThe Palm Springs location works with most major auto insurance providers and holds preferred status with many carriers\, helping streamline repairs and reduce wait times. Services are completed by I-CAR-certified technicians and backed by a limited lifetime warranty\, giving customers confidence long after they leave the shop.
URL:https://pschamber.org/event/hcnbank-grand-opening/
LOCATION:Caliber Collision\, 650 S Oleander Rd\, Palm Springs\, CA\, 92264\, United States
CATEGORIES:Ribbon Cuttings
END:VEVENT
BEGIN:VEVENT
DTSTART;TZID=America/Los_Angeles:20251015T093000
DTEND;TZID=America/Los_Angeles:20251015T100000
DTSTAMP:20260422T092525
CREATED:20250203T212622Z
LAST-MODIFIED:20251007T215726Z
UID:18852-1760520600-1760522400@pschamber.org
SUMMARY:"Deriva Floral" Ribbon Cutting
DESCRIPTION:Something extraordinary is taking root along Museum Way.\nThe City of Palm Springs is pleased to announce the arrival of “Deriva Floral”\, an art installation created by the acclaimed Mexican artist Daniel “Mestiz” Valero from our Sister City\, San Miguel de Allende\, Mexico. “Deriva Floral” is a sensory celebration of color\, craft\, and cultural identity that define the iconic Mexican city. This vibrant exhibition features 36 handcrafted flowers\, each measuring nearly 4 feet\, some of them suspended in the air\, creating an immersive experience. The art installation will be open to the public through November. \nWe invite you to join us for the Ribbon Cutting on Tuesday\, October 15 at 9:30 a.m. Speakers will include Mayor Ron deHarte\, members of the City Council\, Tania Castillo\, director of Tourism from San Miguel de Allende and Gary Armstrong\, President of Palm Springs Sister Cities.
URL:https://pschamber.org/event/deriva-floral-ribbon-cutting/
LOCATION:Downtown Palm Springs Park
CATEGORIES:Ribbon Cuttings
END:VEVENT
END:VCALENDAR