BEGIN:VCALENDAR
VERSION:2.0
PRODID:-//Palm Springs Chamber of Commerce - ECPv6.15.20//NONSGML v1.0//EN
CALSCALE:GREGORIAN
METHOD:PUBLISH
X-WR-CALNAME:Palm Springs Chamber of Commerce
X-ORIGINAL-URL:https://pschamber.org
X-WR-CALDESC:Events for Palm Springs Chamber of Commerce
REFRESH-INTERVAL;VALUE=DURATION:PT1H
X-Robots-Tag:noindex
X-PUBLISHED-TTL:PT1H
BEGIN:VTIMEZONE
TZID:America/Los_Angeles
BEGIN:DAYLIGHT
TZOFFSETFROM:-0800
TZOFFSETTO:-0700
TZNAME:PDT
DTSTART:20250309T100000
END:DAYLIGHT
BEGIN:STANDARD
TZOFFSETFROM:-0700
TZOFFSETTO:-0800
TZNAME:PST
DTSTART:20251102T090000
END:STANDARD
BEGIN:DAYLIGHT
TZOFFSETFROM:-0800
TZOFFSETTO:-0700
TZNAME:PDT
DTSTART:20260308T100000
END:DAYLIGHT
BEGIN:STANDARD
TZOFFSETFROM:-0700
TZOFFSETTO:-0800
TZNAME:PST
DTSTART:20261101T090000
END:STANDARD
BEGIN:DAYLIGHT
TZOFFSETFROM:-0800
TZOFFSETTO:-0700
TZNAME:PDT
DTSTART:20270314T100000
END:DAYLIGHT
BEGIN:STANDARD
TZOFFSETFROM:-0700
TZOFFSETTO:-0800
TZNAME:PST
DTSTART:20271107T090000
END:STANDARD
END:VTIMEZONE
BEGIN:VEVENT
DTSTART;TZID=America/Los_Angeles:20260520T160000
DTEND;TZID=America/Los_Angeles:20260520T163000
DTSTAMP:20260422T153615
CREATED:20251015T193225Z
LAST-MODIFIED:20260318T191359Z
UID:23074-1779292800-1779294600@pschamber.org
SUMMARY:Mendez Air Conditioning & Heating 25-Year Anniversary Ribbon Cutting
DESCRIPTION:We’re excited to celebrate Mendez Air Conditioning & Heating with an official 25-Year Anniversary Ribbon Cutting Ceremony!\nJoin us on Wednesday\, May 20\, at 4:00 p.m. as we recognize 25 years of service\, dedication\, and impact in the Coachella Valley. This event is open to the public — join us as we celebrate this incredible milestone and honor a business that has been keeping our community comfortable for decades. \n\n\nAbout Mendez Air Conditioning & Heating:\nMendez Air Conditioning & Heating has proudly served the Coachella Valley for 25 years\, providing reliable heating and cooling solutions to residential and commercial customers alike. Known for their commitment to quality service and customer care\, the team has built a strong reputation as a trusted local provider. \nWith deep roots in the community\, Mendez Air Conditioning & Heating continues to deliver dependable\, efficient service tailored to the unique climate needs of the desert. Their longevity reflects not only technical expertise\, but a genuine dedication to the people and businesses they serve.
URL:https://pschamber.org/event/mendez-air-conditioning-and-heating-rc/
LOCATION:Mendez Air Conditioning & Heating\, 72096 Dunham Way\, Suite H\, Thousand Palms\, 92276\, United States
CATEGORIES:Ribbon Cuttings
END:VEVENT
END:VCALENDAR