BEGIN:VCALENDAR
VERSION:2.0
PRODID:-//Palm Springs Chamber of Commerce - ECPv6.15.20//NONSGML v1.0//EN
CALSCALE:GREGORIAN
METHOD:PUBLISH
X-ORIGINAL-URL:https://pschamber.org
X-WR-CALDESC:Events for Palm Springs Chamber of Commerce
REFRESH-INTERVAL;VALUE=DURATION:PT1H
X-Robots-Tag:noindex
X-PUBLISHED-TTL:PT1H
BEGIN:VTIMEZONE
TZID:America/Los_Angeles
BEGIN:DAYLIGHT
TZOFFSETFROM:-0800
TZOFFSETTO:-0700
TZNAME:PDT
DTSTART:20240310T100000
END:DAYLIGHT
BEGIN:STANDARD
TZOFFSETFROM:-0700
TZOFFSETTO:-0800
TZNAME:PST
DTSTART:20241103T090000
END:STANDARD
BEGIN:DAYLIGHT
TZOFFSETFROM:-0800
TZOFFSETTO:-0700
TZNAME:PDT
DTSTART:20250309T100000
END:DAYLIGHT
BEGIN:STANDARD
TZOFFSETFROM:-0700
TZOFFSETTO:-0800
TZNAME:PST
DTSTART:20251102T090000
END:STANDARD
BEGIN:DAYLIGHT
TZOFFSETFROM:-0800
TZOFFSETTO:-0700
TZNAME:PDT
DTSTART:20260308T100000
END:DAYLIGHT
BEGIN:STANDARD
TZOFFSETFROM:-0700
TZOFFSETTO:-0800
TZNAME:PST
DTSTART:20261101T090000
END:STANDARD
END:VTIMEZONE
BEGIN:VEVENT
DTSTART;TZID=America/Los_Angeles:20250305T113000
DTEND;TZID=America/Los_Angeles:20250305T130000
DTSTAMP:20260423T000253
CREATED:20250114T233739Z
LAST-MODIFIED:20260113T222228Z
UID:18604-1741174200-1741179600@pschamber.org
SUMMARY:Police and Fire Appreciation Luncheon 2025
DESCRIPTION:Police and Fire Appreciation Luncheon\nThis event is officially sold out! Thank you to everyone who secured a seat—we can’t wait to celebrate with you.
URL:https://pschamber.org/event/policeandfire2025/
LOCATION:Palm Springs Convention Center\, 277 N. Avenida Caballeros\, Palm Springs\, CA\, 92262\, United States
CATEGORIES:Featured
ORGANIZER;CN="Palm Springs Chamber of Commerce":MAILTO:info@pschamber.org
END:VEVENT
END:VCALENDAR