BEGIN:VCALENDAR
VERSION:2.0
PRODID:-//Palm Springs Chamber of Commerce - ECPv6.15.20//NONSGML v1.0//EN
CALSCALE:GREGORIAN
METHOD:PUBLISH
X-WR-CALNAME:Palm Springs Chamber of Commerce
X-ORIGINAL-URL:https://pschamber.org
X-WR-CALDESC:Events for Palm Springs Chamber of Commerce
REFRESH-INTERVAL;VALUE=DURATION:PT1H
X-Robots-Tag:noindex
X-PUBLISHED-TTL:PT1H
BEGIN:VTIMEZONE
TZID:America/Los_Angeles
BEGIN:DAYLIGHT
TZOFFSETFROM:-0800
TZOFFSETTO:-0700
TZNAME:PDT
DTSTART:20240310T100000
END:DAYLIGHT
BEGIN:STANDARD
TZOFFSETFROM:-0700
TZOFFSETTO:-0800
TZNAME:PST
DTSTART:20241103T090000
END:STANDARD
BEGIN:DAYLIGHT
TZOFFSETFROM:-0800
TZOFFSETTO:-0700
TZNAME:PDT
DTSTART:20250309T100000
END:DAYLIGHT
BEGIN:STANDARD
TZOFFSETFROM:-0700
TZOFFSETTO:-0800
TZNAME:PST
DTSTART:20251102T090000
END:STANDARD
BEGIN:DAYLIGHT
TZOFFSETFROM:-0800
TZOFFSETTO:-0700
TZNAME:PDT
DTSTART:20260308T100000
END:DAYLIGHT
BEGIN:STANDARD
TZOFFSETFROM:-0700
TZOFFSETTO:-0800
TZNAME:PST
DTSTART:20261101T090000
END:STANDARD
END:VTIMEZONE
BEGIN:VTIMEZONE
TZID:America/Los_Angeles
BEGIN:DAYLIGHT
TZOFFSETFROM:-0800
TZOFFSETTO:-0700
TZNAME:PDT
DTSTART:20240310T100000
END:DAYLIGHT
BEGIN:STANDARD
TZOFFSETFROM:-0700
TZOFFSETTO:-0800
TZNAME:PST
DTSTART:20241103T090000
END:STANDARD
BEGIN:DAYLIGHT
TZOFFSETFROM:-0800
TZOFFSETTO:-0700
TZNAME:PDT
DTSTART:20250309T100000
END:DAYLIGHT
BEGIN:STANDARD
TZOFFSETFROM:-0700
TZOFFSETTO:-0800
TZNAME:PST
DTSTART:20251102T090000
END:STANDARD
BEGIN:DAYLIGHT
TZOFFSETFROM:-0800
TZOFFSETTO:-0700
TZNAME:PDT
DTSTART:20260308T100000
END:DAYLIGHT
BEGIN:STANDARD
TZOFFSETFROM:-0700
TZOFFSETTO:-0800
TZNAME:PST
DTSTART:20261101T090000
END:STANDARD
END:VTIMEZONE
BEGIN:VEVENT
DTSTART;TZID=America/Los_Angeles:20251001T173000
DTEND;TZID=America/Los_Angeles:20251001T190000
DTSTAMP:20260422T153434
CREATED:20240821T192244Z
LAST-MODIFIED:20250724T203853Z
UID:15145-1759339800-1759345200@pschamber.org
SUMMARY:Travel with the Palm Springs Chamber to Spain 2026 - Trip Orientation Meeting
DESCRIPTION:
URL:https://pschamber.org/event/travel-with-the-palm-springs-chamber-to-spain-2026-trip-orientation-meeting/
LOCATION:Mizell Center\, 480 S Sunrise Way\, Palm Springs\, CA\, 92262\, United States
END:VEVENT
BEGIN:VEVENT
DTSTART;TZID=America/Los_Angeles:20251015T093000
DTEND;TZID=America/Los_Angeles:20251015T100000
DTSTAMP:20260422T153434
CREATED:20250203T212622Z
LAST-MODIFIED:20251007T215726Z
UID:18852-1760520600-1760522400@pschamber.org
SUMMARY:"Deriva Floral" Ribbon Cutting
DESCRIPTION:Something extraordinary is taking root along Museum Way.\nThe City of Palm Springs is pleased to announce the arrival of “Deriva Floral”\, an art installation created by the acclaimed Mexican artist Daniel “Mestiz” Valero from our Sister City\, San Miguel de Allende\, Mexico. “Deriva Floral” is a sensory celebration of color\, craft\, and cultural identity that define the iconic Mexican city. This vibrant exhibition features 36 handcrafted flowers\, each measuring nearly 4 feet\, some of them suspended in the air\, creating an immersive experience. The art installation will be open to the public through November. \nWe invite you to join us for the Ribbon Cutting on Tuesday\, October 15 at 9:30 a.m. Speakers will include Mayor Ron deHarte\, members of the City Council\, Tania Castillo\, director of Tourism from San Miguel de Allende and Gary Armstrong\, President of Palm Springs Sister Cities.
URL:https://pschamber.org/event/deriva-floral-ribbon-cutting/
LOCATION:Downtown Palm Springs Park
CATEGORIES:Ribbon Cuttings
END:VEVENT
BEGIN:VEVENT
DTSTART;VALUE=DATE:20251018
DTEND;VALUE=DATE:20251027
DTSTAMP:20260422T153434
CREATED:20240516T204235Z
LAST-MODIFIED:20250124T172500Z
UID:14546-1760745600-1761523199@pschamber.org
SUMMARY:Travel with the Palm Springs Chamber to China 2025
DESCRIPTION:
URL:https://pschamber.org/event/travel-with-the-palm-springs-chamber-to-china-2025/
LOCATION:Beijing\, Shanghai\, Suzhou\, Hangzhou\, China
END:VEVENT
END:VCALENDAR